BEGIN:VCALENDAR
VERSION:2.0
PRODID:-//Tukios.com/
BEGIN:VEVENT
UID:d0f19015-1b51-4f8b-8c14-6b364d2f2cd9@www.lansingfuneralhome.com
DTSTAMP:20260421T002205Z
DTSTART:20260509T150000Z
DTEND:20260509T160000Z
SUMMARY:Graveside Service
DESCRIPTION:
URL:https://www.lansingfuneralhome.com/obituaries/david-ferris
LOCATION: 462-464 Ridge Road  Lansing NY 14882
GEO:42.5520929;-76.5446755
END:VEVENT
END:VCALENDAR